1.000000
0.000000
0.000000
-1.000000
553914.000
4289559.000
