1.000000
0.000000
0.000000
-1.000000
559397.000
4282666.000
