1.000000
0.000000
0.000000
-1.000000
553961.000
4282624.000
