1.000000
0.000000
0.000000
-1.000000
548483.000
4289520.000
