1.000000
0.000000
0.000000
-1.000000
543052.000
4289485.000
