1.000000
0.000000
0.000000
-1.000000
548525.000
4282585.000
