1.000000
0.000000
0.000000
-1.000000
543089.000
4282550.000
