1.000000
0.000000
0.000000
-1.000000
537620.000
4289454.000
