1.000000
0.000000
0.000000
-1.000000
537653.000
4282518.000
