1.000000
0.000000
0.000000
-1.000000
532210.000
4282490.000
