1.000000
0.000000
0.000000
-1.000000
521340.000
4282450.000
