1.000000
0.000000
0.000000
-1.000000
559241.000
4303473.000
