1.000000
0.000000
0.000000
-1.000000
553819.000
4303430.000
