1.000000
0.000000
0.000000
-1.000000
559293.000
4296537.000
