1.000000
0.000000
0.000000
-1.000000
553867.000
4296495.000
