1.000000
0.000000
0.000000
-1.000000
548398.000
4303391.000
