1.000000
0.000000
0.000000
-1.000000
548440.000
4296456.000
