NROWS          7639
NCOLS          6294
NBANDS         1
NBITS          8
BYTEORDER      I
LAYOUT         BSQ
ULXMAP         620223.500
ULYMAP         4214029.500
XDIM           1.000
YDIM           1.000
SKIPBYTES      25176
MAP_UNITS METERS
BANDROWBYTES   6294
TOTALROWBYTES  6294
/* DATUM NAD83
/* PROJECTION_NAME UTM
/* PROJECTION_ZONE 10
/* SOURCE_IMAGE_DATE 1993 6 15
/* DOQ_FILE_NAME sw.hd
/* DOQ_QUAD_NAME BOULDIN_ISLAND_SW
/* DOQ_STATE CA
