NROWS          7652
NCOLS          6290
NBANDS         1
NBITS          8
BYTEORDER      I
LAYOUT         BSQ
ULXMAP         636205.500
ULYMAP         4242042.500
XDIM           1.000
YDIM           1.000
SKIPBYTES      25160
MAP_UNITS METERS
BANDROWBYTES   6290
TOTALROWBYTES  6290
/* DATUM NAD83
/* PROJECTION_NAME UTM
/* PROJECTION_ZONE 10
/* SOURCE_IMAGE_DATE 1993 5 23
/* DOQ_FILE_NAME se.hd
/* DOQ_QUAD_NAME BRUCEVILLE_SE
/* DOQ_STATE CA
