NROWS          7648
NCOLS          6286
NBANDS         1
NBITS          8
BYTEORDER      I
LAYOUT         BSQ
ULXMAP         630740.500
ULYMAP         4241948.500
XDIM           1.000
YDIM           1.000
SKIPBYTES      25144
MAP_UNITS METERS
BANDROWBYTES   6286
TOTALROWBYTES  6286
/* DATUM NAD83
/* PROJECTION_NAME UTM
/* PROJECTION_ZONE 10
/* SOURCE_IMAGE_DATE 1993 6 15
/* DOQ_FILE_NAME sw.hd
/* DOQ_QUAD_NAME BRUCEVILLE_SW
/* DOQ_STATE CA
