NROWS          7667
NCOLS          6309
NBANDS         1
NBITS          8
BYTEORDER      I
LAYOUT         BSQ
ULXMAP         658063.500
ULYMAP         4242456.500
XDIM           1.000
YDIM           1.000
SKIPBYTES      25236
MAP_UNITS METERS
BANDROWBYTES   6309
TOTALROWBYTES  6309
/* DATUM NAD83
/* PROJECTION_NAME UTM
/* PROJECTION_ZONE 10
/* SOURCE_IMAGE_DATE 1993 5 22
/* DOQ_FILE_NAME se.hd
/* DOQ_QUAD_NAME CLAY_SE
/* DOQ_STATE CA
