NROWS          7675
NCOLS          6323
NBANDS         1
NBITS          8
BYTEORDER      I
LAYOUT         BSQ
ULXMAP         669138.500
ULYMAP         4235750.500
XDIM           1.000
YDIM           1.000
SKIPBYTES      25292
MAP_UNITS METERS
BANDROWBYTES   6323
TOTALROWBYTES  6323
/* DATUM NAD83
/* PROJECTION_NAME UTM
/* PROJECTION_ZONE 10
/* SOURCE_IMAGE_DATE 1993 5 9
/* DOQ_FILE_NAME ne.hd
/* DOQ_QUAD_NAME CLEMENTS_NE
/* DOQ_STATE CA
