NROWS          7674
NCOLS          6327
NBANDS         1
NBITS          8
BYTEORDER      I
LAYOUT         BSQ
ULXMAP         669283.500
ULYMAP         4228814.500
XDIM           1.000
YDIM           1.000
SKIPBYTES      25308
MAP_UNITS METERS
BANDROWBYTES   6327
TOTALROWBYTES  6327
/* DATUM NAD83
/* PROJECTION_NAME UTM
/* PROJECTION_ZONE 10
/* SOURCE_IMAGE_DATE 1993 5 9
/* DOQ_FILE_NAME se.hd
/* DOQ_QUAD_NAME CLEMENTS_SE
/* DOQ_STATE CA
