NROWS          7670
NCOLS          6322
NBANDS         1
NBITS          8
BYTEORDER      I
LAYOUT         BSQ
ULXMAP         663809.500
ULYMAP         4228697.500
XDIM           1.000
YDIM           1.000
SKIPBYTES      25288
MAP_UNITS METERS
BANDROWBYTES   6322
TOTALROWBYTES  6322
/* DATUM NAD83
/* PROJECTION_NAME UTM
/* PROJECTION_ZONE 10
/* SOURCE_IMAGE_DATE 1993 5 9
/* DOQ_FILE_NAME sw.hd
/* DOQ_QUAD_NAME CLEMENTS_SW
/* DOQ_STATE CA
