NROWS          7655
NCOLS          6295
NBANDS         1
NBITS          8
BYTEORDER      I
LAYOUT         BSQ
ULXMAP         641669.500
ULYMAP         4242140.500
XDIM           1.000
YDIM           1.000
SKIPBYTES      25180
MAP_UNITS METERS
BANDROWBYTES   6295
TOTALROWBYTES  6295
/* DATUM NAD83
/* PROJECTION_NAME UTM
/* PROJECTION_ZONE 10
/* SOURCE_IMAGE_DATE 1993 5 23
/* DOQ_FILE_NAME sw.hd
/* DOQ_QUAD_NAME GALT_SW
/* DOQ_STATE CA
