NROWS          7674
NCOLS          6318
NBANDS         1
NBITS          8
BYTEORDER      I
LAYOUT         BSQ
ULXMAP         668993.500
ULYMAP         4242685.500
XDIM           1.000
YDIM           1.000
SKIPBYTES      25272
MAP_UNITS METERS
BANDROWBYTES   6318
TOTALROWBYTES  6318
/* DATUM NAD83
/* PROJECTION_NAME UTM
/* PROJECTION_ZONE 10
/* SOURCE_IMAGE_DATE 1993 5 9
/* DOQ_FILE_NAME se.hd
/* DOQ_QUAD_NAME GOOSE_CREEK_SE
/* DOQ_STATE CA
