NROWS          7644
NCOLS          6285
NBANDS         1
NBITS          8
BYTEORDER      I
LAYOUT         BSQ
ULXMAP         625384.500
ULYMAP         4234922.500
XDIM           1.000
YDIM           1.000
SKIPBYTES      25140
MAP_UNITS METERS
BANDROWBYTES   6285
TOTALROWBYTES  6285
/* DATUM NAD83
/* PROJECTION_NAME UTM
/* PROJECTION_ZONE 10
/* SOURCE_IMAGE_DATE 1993 6 15
/* DOQ_FILE_NAME ne.hd
/* DOQ_QUAD_NAME ISLETON_NE
/* DOQ_STATE CA
