NROWS          7673
NCOLS          6332
NBANDS         1
NBITS          8
BYTEORDER      I
LAYOUT         BSQ
ULXMAP         669428.500
ULYMAP         4221878.500
XDIM           1.000
YDIM           1.000
SKIPBYTES      25328
MAP_UNITS METERS
BANDROWBYTES   6332
TOTALROWBYTES  6332
/* DATUM NAD83
/* PROJECTION_NAME UTM
/* PROJECTION_ZONE 10
/* SOURCE_IMAGE_DATE 1993 5 9
/* DOQ_FILE_NAME ne.hd
/* DOQ_QUAD_NAME LINDEN_NE
/* DOQ_STATE CA
