NROWS          7669
NCOLS          6332
NBANDS         1
NBITS          8
BYTEORDER      I
LAYOUT         BSQ
ULXMAP         664089.500
ULYMAP         4214826.500
XDIM           1.000
YDIM           1.000
SKIPBYTES      25328
MAP_UNITS METERS
BANDROWBYTES   6332
TOTALROWBYTES  6332
/* DATUM NAD83
/* PROJECTION_NAME UTM
/* PROJECTION_ZONE 10
/* SOURCE_IMAGE_DATE 1993 5 22
/* DOQ_FILE_NAME sw.hd
/* DOQ_QUAD_NAME LINDEN_SW
/* DOQ_STATE CA
