NROWS          7662
NCOLS          6308
NBANDS         1
NBITS          8
BYTEORDER      I
LAYOUT         BSQ
ULXMAP         652730.500
ULYMAP         4235411.500
XDIM           1.000
YDIM           1.000
SKIPBYTES      25232
MAP_UNITS METERS
BANDROWBYTES   6308
TOTALROWBYTES  6308
/* DATUM NAD83
/* PROJECTION_NAME UTM
/* PROJECTION_ZONE 10
/* SOURCE_IMAGE_DATE 1993 5 23
/* DOQ_FILE_NAME nw.hd
/* DOQ_QUAD_NAME LOCKEFORD_NW
/* DOQ_STATE CA
