NROWS          7666
NCOLS          6318
NBANDS         1
NBITS          8
BYTEORDER      I
LAYOUT         BSQ
ULXMAP         658335.500
ULYMAP         4228585.500
XDIM           1.000
YDIM           1.000
SKIPBYTES      25272
MAP_UNITS METERS
BANDROWBYTES   6318
TOTALROWBYTES  6318
/* DATUM NAD83
/* PROJECTION_NAME UTM
/* PROJECTION_ZONE 10
/* SOURCE_IMAGE_DATE 1993 5 22
/* DOQ_FILE_NAME se.hd
/* DOQ_QUAD_NAME LOCKEFORD_SE
/* DOQ_STATE CA
