NROWS          7663
NCOLS          6313
NBANDS         1
NBITS          8
BYTEORDER      I
LAYOUT         BSQ
ULXMAP         652861.500
ULYMAP         4228476.500
XDIM           1.000
YDIM           1.000
SKIPBYTES      25252
MAP_UNITS METERS
BANDROWBYTES   6313
TOTALROWBYTES  6313
/* DATUM NAD83
/* PROJECTION_NAME UTM
/* PROJECTION_ZONE 10
/* SOURCE_IMAGE_DATE 1993 5 22
/* DOQ_FILE_NAME sw.hd
/* DOQ_QUAD_NAME LOCKEFORD_SW
/* DOQ_STATE CA
