NROWS          7659
NCOLS          6303
NBANDS         1
NBITS          8
BYTEORDER      I
LAYOUT         BSQ
ULXMAP         647261.500
ULYMAP         4235306.500
XDIM           1.000
YDIM           1.000
SKIPBYTES      25212
MAP_UNITS METERS
BANDROWBYTES   6303
TOTALROWBYTES  6303
/* DATUM NAD83
/* PROJECTION_NAME UTM
/* PROJECTION_ZONE 10
/* SOURCE_IMAGE_DATE 1993 5 23
/* DOQ_FILE_NAME ne.hd
/* DOQ_QUAD_NAME LODI_NORTH_NE
/* DOQ_STATE CA
