NROWS          7656
NCOLS          6300
NBANDS         1
NBITS          8
BYTEORDER      I
LAYOUT         BSQ
ULXMAP         641791.500
ULYMAP         4235205.500
XDIM           1.000
YDIM           1.000
SKIPBYTES      25200
MAP_UNITS METERS
BANDROWBYTES   6300
TOTALROWBYTES  6300
/* DATUM NAD83
/* PROJECTION_NAME UTM
/* PROJECTION_ZONE 10
/* SOURCE_IMAGE_DATE 1993 5 23
/* DOQ_FILE_NAME nw.hd
/* DOQ_QUAD_NAME LODI_NORTH_NW
/* DOQ_STATE CA
