NROWS          7655
NCOLS          6304
NBANDS         1
NBITS          8
BYTEORDER      I
LAYOUT         BSQ
ULXMAP         641913.500
ULYMAP         4228269.500
XDIM           1.000
YDIM           1.000
SKIPBYTES      25216
MAP_UNITS METERS
BANDROWBYTES   6304
TOTALROWBYTES  6304
/* DATUM NAD83
/* PROJECTION_NAME UTM
/* PROJECTION_ZONE 10
/* SOURCE_IMAGE_DATE 1993 5 23
/* DOQ_FILE_NAME sw.hd
/* DOQ_QUAD_NAME LODI_NORTH_SW
/* DOQ_STATE CA
