NROWS          7655
NCOLS          6309
NBANDS         1
NBITS          8
BYTEORDER      I
LAYOUT         BSQ
ULXMAP         642034.500
ULYMAP         4221334.500
XDIM           1.000
YDIM           1.000
SKIPBYTES      25236
MAP_UNITS METERS
BANDROWBYTES   6309
TOTALROWBYTES  6309
/* DATUM NAD83
/* PROJECTION_NAME UTM
/* PROJECTION_ZONE 10
/* SOURCE_IMAGE_DATE 1993 5 23
/* DOQ_FILE_NAME nw.hd
/* DOQ_QUAD_NAME LODI_SOUTH_NW
/* DOQ_STATE CA
