NROWS          7654
NCOLS          6313
NBANDS         1
NBITS          8
BYTEORDER      I
LAYOUT         BSQ
ULXMAP         642156.500
ULYMAP         4214398.500
XDIM           1.000
YDIM           1.000
SKIPBYTES      25252
MAP_UNITS METERS
BANDROWBYTES   6313
TOTALROWBYTES  6313
/* DATUM NAD83
/* PROJECTION_NAME UTM
/* PROJECTION_ZONE 10
/* SOURCE_IMAGE_DATE 1993 5 23
/* DOQ_FILE_NAME sw.hd
/* DOQ_QUAD_NAME LODI_SOUTH_SW
/* DOQ_STATE CA
