NROWS          7647
NCOLS          6304
NBANDS         1
NBITS          8
BYTEORDER      I
LAYOUT         BSQ
ULXMAP         631189.500
ULYMAP         4214207.500
XDIM           1.000
YDIM           1.000
SKIPBYTES      25216
MAP_UNITS METERS
BANDROWBYTES   6304
TOTALROWBYTES  6304
/* DATUM NAD83
/* PROJECTION_NAME UTM
/* PROJECTION_ZONE 10
/* SOURCE_IMAGE_DATE 1993 6 15
/* DOQ_FILE_NAME sw.hd
/* DOQ_QUAD_NAME TERMINOUS_SW
/* DOQ_STATE CA
