NROWS          7647
NCOLS          6290
NBANDS         1
NBITS          8
BYTEORDER      I
LAYOUT         BSQ
ULXMAP         630853.500
ULYMAP         4235012.500
XDIM           1.000
YDIM           1.000
SKIPBYTES      25160
MAP_UNITS METERS
BANDROWBYTES   6290
TOTALROWBYTES  6290
/* DATUM NAD83
/* PROJECTION_NAME UTM
/* PROJECTION_ZONE 10
/* SOURCE_IMAGE_DATE 1993 6 15
/* DOQ_FILE_NAME nw.hd
/* DOQ_QUAD_NAME THORNTON_NW
/* DOQ_STATE CA
