NROWS          7651
NCOLS          6299
NBANDS         1
NBITS          8
BYTEORDER      I
LAYOUT         BSQ
ULXMAP         636439.500
ULYMAP         4228171.500
XDIM           1.000
YDIM           1.000
SKIPBYTES      25196
MAP_UNITS METERS
BANDROWBYTES   6299
TOTALROWBYTES  6299
/* DATUM NAD83
/* PROJECTION_NAME UTM
/* PROJECTION_ZONE 10
/* SOURCE_IMAGE_DATE 1993 5 23
/* DOQ_FILE_NAME se.hd
/* DOQ_QUAD_NAME THORNTON_SE
/* DOQ_STATE CA
