NROWS          7647
NCOLS          6295
NBANDS         1
NBITS          8
BYTEORDER      I
LAYOUT         BSQ
ULXMAP         630965.500
ULYMAP         4228077.500
XDIM           1.000
YDIM           1.000
SKIPBYTES      25180
MAP_UNITS METERS
BANDROWBYTES   6295
TOTALROWBYTES  6295
/* DATUM NAD83
/* PROJECTION_NAME UTM
/* PROJECTION_ZONE 10
/* SOURCE_IMAGE_DATE 1993 6 15
/* DOQ_FILE_NAME sw.hd
/* DOQ_QUAD_NAME THORNTON_SW
/* DOQ_STATE CA
