NROWS          7666
NCOLS          6322
NBANDS         1
NBITS          8
BYTEORDER      I
LAYOUT         BSQ
ULXMAP         658471.500
ULYMAP         4221649.500
XDIM           1.000
YDIM           1.000
SKIPBYTES      25288
MAP_UNITS METERS
BANDROWBYTES   6322
TOTALROWBYTES  6322
/* DATUM NAD83
/* PROJECTION_NAME UTM
/* PROJECTION_ZONE 10
/* SOURCE_IMAGE_DATE 1993 5 22
/* DOQ_FILE_NAME ne.hd
/* DOQ_QUAD_NAME WATERLOO_NE
/* DOQ_STATE CA
