NROWS          7666
NCOLS          6327
NBANDS         1
NBITS          8
BYTEORDER      I
LAYOUT         BSQ
ULXMAP         658606.500
ULYMAP         4214714.500
XDIM           1.000
YDIM           1.000
SKIPBYTES      25308
MAP_UNITS METERS
BANDROWBYTES   6327
TOTALROWBYTES  6327
/* DATUM NAD83
/* PROJECTION_NAME UTM
/* PROJECTION_ZONE 10
/* SOURCE_IMAGE_DATE 1993 5 22
/* DOQ_FILE_NAME se.hd
/* DOQ_QUAD_NAME WATERLOO_SE
/* DOQ_STATE CA
