NROWS          7662
NCOLS          6323
NBANDS         1
NBITS          8
BYTEORDER      I
LAYOUT         BSQ
ULXMAP         653122.500
ULYMAP         4214605.500
XDIM           1.000
YDIM           1.000
SKIPBYTES      25292
MAP_UNITS METERS
BANDROWBYTES   6323
TOTALROWBYTES  6323
/* DATUM NAD83
/* PROJECTION_NAME UTM
/* PROJECTION_ZONE 10
/* SOURCE_IMAGE_DATE 1993 5 23
/* DOQ_FILE_NAME sw.hd
/* DOQ_QUAD_NAME WATERLOO_SW
/* DOQ_STATE CA
