NROWS          7599
NCOLS          6213
NBANDS         1
NBITS          8
BYTEORDER      I
LAYOUT         BSQ
ULXMAP         570453.000
ULYMAP         4261957.000
XDIM           1.000
YDIM           1.000
SKIPBYTES      6213
MAP_UNITS METERS
BANDROWBYTES   6213
TOTALROWBYTES  6213
/* DATUM NAD83
/* PROJECTION_NAME UTM
/* PROJECTION_ZONE 10
/* SOURCE_IMAGE_DATE 1993 06 16
/* DOQ_FILE_NAME capell_valley_ne.doq
/* DOQ_QUAD_NAME CAPELL_VALLEY_NE
/* DOQ_STATE CA
