NROWS          7596
NCOLS          6208
NBANDS         1
NBITS          8
BYTEORDER      I
LAYOUT         BSQ
ULXMAP         565003.000
ULYMAP         4261907.000
XDIM           1.000
YDIM           1.000
SKIPBYTES      6208
MAP_UNITS METERS
BANDROWBYTES   6208
TOTALROWBYTES  6208
/* DATUM NAD83
/* PROJECTION_NAME UTM
/* PROJECTION_ZONE 10
/* SOURCE_IMAGE_DATE 1993 07 06
/* DOQ_FILE_NAME capell_valley_nw.doq
/* DOQ_QUAD_NAME CAPELL_VALLEY_NW
/* DOQ_STATE CA
