NROWS          7594
NCOLS          6214
NBANDS         1
NBITS          8
BYTEORDER      I
LAYOUT         BSQ
ULXMAP         565059.000
ULYMAP         4254971.000
XDIM           1.000
YDIM           1.000
SKIPBYTES      6214
MAP_UNITS METERS
BANDROWBYTES   6214
TOTALROWBYTES  6214
/* DATUM NAD83
/* PROJECTION_NAME UTM
/* PROJECTION_ZONE 10
/* SOURCE_IMAGE_DATE 1993 07 06
/* DOQ_FILE_NAME capell_valley_sw.doq
/* DOQ_QUAD_NAME CAPELL_VALLEY_SW
/* DOQ_STATE CA
