NROWS          7552
NCOLS          6184
NBANDS         1
NBITS          8
BYTEORDER      I
LAYOUT         BSQ
ULXMAP         505080.000
ULYMAP         4219993.000
XDIM           1.000
YDIM           1.000
SKIPBYTES      24736
MAP_UNITS METERS
BANDROWBYTES   6184
TOTALROWBYTES  6184
/* DATUM NAD83
/* PROJECTION_NAME UTM
/* PROJECTION_ZONE 10
/* SOURCE_IMAGE_DATE 1993 07 13
/* DOQ_FILE_NAME drakesbayne.hdr
/* DOQ_QUAD_NAME DRAKES_BAY_NE
/* DOQ_STATE CA
