NROWS          7548
NCOLS          6164
NBANDS         1
NBITS          8
BYTEORDER      I
LAYOUT         BSQ
ULXMAP         499620.000
ULYMAP         4219987.000
XDIM           1.000
YDIM           1.000
SKIPBYTES      24656
MAP_UNITS METERS
BANDROWBYTES   6164
TOTALROWBYTES  6164
/* DATUM NAD83
/* PROJECTION_NAME UTM
/* PROJECTION_ZONE 10
/* SOURCE_IMAGE_DATE 1993 07 13
/* DOQ_FILE_NAME drakesbaynw.hdr
/* DOQ_QUAD_NAME DRAKES_BAY_NW
/* DOQ_STATE CA
