NROWS          7551
NCOLS          6192
NBANDS         1
NBITS          8
BYTEORDER      I
LAYOUT         BSQ
ULXMAP         505085.000
ULYMAP         4213058.000
XDIM           1.000
YDIM           1.000
SKIPBYTES      24768
MAP_UNITS METERS
BANDROWBYTES   6192
TOTALROWBYTES  6192
/* DATUM NAD83
/* PROJECTION_NAME UTM
/* PROJECTION_ZONE 10
/* SOURCE_IMAGE_DATE 1993 07 13
/* DOQ_FILE_NAME drakesbayse.hdr
/* DOQ_QUAD_NAME DRAKES_BAY_SE
/* DOQ_STATE CA
